BEGIN:VCALENDAR
VERSION:2.0
PRODID:-//Mar Thoma Congregation Switzerland - ECPv6.15.20//NONSGML v1.0//EN
CALSCALE:GREGORIAN
METHOD:PUBLISH
X-WR-CALNAME:Mar Thoma Congregation Switzerland
X-ORIGINAL-URL:https://marthoma.ch
X-WR-CALDESC:Events for Mar Thoma Congregation Switzerland
REFRESH-INTERVAL;VALUE=DURATION:PT1H
X-Robots-Tag:noindex
X-PUBLISHED-TTL:PT1H
BEGIN:VTIMEZONE
TZID:UTC
BEGIN:STANDARD
TZOFFSETFROM:+0000
TZOFFSETTO:+0000
TZNAME:UTC
DTSTART:20240101T000000
END:STANDARD
END:VTIMEZONE
BEGIN:VEVENT
DTSTART;TZID=UTC:20250510T140000
DTEND;TZID=UTC:20250510T163000
DTSTAMP:20260419T235337
CREATED:20250410T202835Z
LAST-MODIFIED:20250410T202835Z
UID:248-1746885600-1746894600@marthoma.ch
SUMMARY:Worship\, Basel
DESCRIPTION:
URL:https://marthoma.ch/event/worship-basel/
LOCATION:Kirche St.Peter and Paul\, Basel\, Baslerstrasse 51\,\, Allschwil\, Basel\, 4123\, Switzerland
CATEGORIES:Worship
END:VEVENT
BEGIN:VEVENT
DTSTART;TZID=UTC:20250511T103000
DTEND;TZID=UTC:20250511T120000
DTSTAMP:20260419T235337
CREATED:20250410T203002Z
LAST-MODIFIED:20250410T203002Z
UID:251-1746959400-1746964800@marthoma.ch
SUMMARY:Worship\, Geneva
DESCRIPTION:
URL:https://marthoma.ch/event/worship-geneva/
LOCATION:Centre Paroissial St-Germain\, Geneva\, Centre Paroissial St-Germain\, rue des Granges 9\, Geneva\, 1204\, Switzerland
CATEGORIES:Worship
END:VEVENT
BEGIN:VEVENT
DTSTART;TZID=UTC:20250525T133000
DTEND;TZID=UTC:20250525T160000
DTSTAMP:20260419T235337
CREATED:20250410T203146Z
LAST-MODIFIED:20250410T203146Z
UID:253-1748179800-1748188800@marthoma.ch
SUMMARY:Worship\, Zurich
DESCRIPTION:
URL:https://marthoma.ch/event/worship-zurich/
LOCATION:St. Martin Katholische Kirche\, Zurich\, Am Wasser 11\, Birmensdorf\, Zurich\, 8903\, Switzerland
CATEGORIES:Worship
END:VEVENT
END:VCALENDAR