BEGIN:VCALENDAR
VERSION:2.0
PRODID:-//Mar Thoma Congregation Switzerland - ECPv6.15.20//NONSGML v1.0//EN
CALSCALE:GREGORIAN
METHOD:PUBLISH
X-ORIGINAL-URL:https://marthoma.ch
X-WR-CALDESC:Events for Mar Thoma Congregation Switzerland
REFRESH-INTERVAL;VALUE=DURATION:PT1H
X-Robots-Tag:noindex
X-PUBLISHED-TTL:PT1H
BEGIN:VTIMEZONE
TZID:UTC
BEGIN:STANDARD
TZOFFSETFROM:+0000
TZOFFSETTO:+0000
TZNAME:UTC
DTSTART:20240101T000000
END:STANDARD
END:VTIMEZONE
BEGIN:VEVENT
DTSTART;TZID=UTC:20250907T083000
DTEND;TZID=UTC:20250907T100000
DTSTAMP:20260426T000543
CREATED:20250410T214856Z
LAST-MODIFIED:20250410T214856Z
UID:319-1757233800-1757239200@marthoma.ch
SUMMARY:Sunday School (Online)
DESCRIPTION:
URL:https://marthoma.ch/event/sunday-school-online-11/
LOCATION:Basel
CATEGORIES:Sunday School
END:VEVENT
BEGIN:VEVENT
DTSTART;TZID=UTC:20250914T083000
DTEND;TZID=UTC:20250914T100000
DTSTAMP:20260426T000543
CREATED:20250410T215042Z
LAST-MODIFIED:20250410T215042Z
UID:321-1757838600-1757844000@marthoma.ch
SUMMARY:Sunday School (Online)
DESCRIPTION:
URL:https://marthoma.ch/event/sunday-school-online-12/
LOCATION:Basel
CATEGORIES:Sunday School
END:VEVENT
BEGIN:VEVENT
DTSTART;TZID=UTC:20250921T083000
DTEND;TZID=UTC:20250921T100000
DTSTAMP:20260426T000543
CREATED:20250410T215118Z
LAST-MODIFIED:20250410T215118Z
UID:323-1758443400-1758448800@marthoma.ch
SUMMARY:Sunday School (Online)
DESCRIPTION:
URL:https://marthoma.ch/event/sunday-school-online-13/
LOCATION:Basel
CATEGORIES:Sunday School
END:VEVENT
BEGIN:VEVENT
DTSTART;TZID=UTC:20250926T080000
DTEND;TZID=UTC:20250928T170000
DTSTAMP:20260426T000543
CREATED:20250410T204608Z
LAST-MODIFIED:20250410T204608Z
UID:277-1758873600-1759078800@marthoma.ch
SUMMARY:Family Conference\, Lenk
DESCRIPTION:
URL:https://marthoma.ch/event/family-conference-lenk/
LOCATION:Kurs und Sportzentrum\, Lenk\, Simmendamm 9\, Lenk\, 3775\, Switzerland
CATEGORIES:Sevigha Sangom,Sunday School,Worship,Youth
END:VEVENT
END:VCALENDAR